BEGIN:VCALENDAR
VERSION:2.0
PRODID:-//Vision Aligns - ECPv6.15.20//NONSGML v1.0//EN
CALSCALE:GREGORIAN
METHOD:PUBLISH
X-ORIGINAL-URL:https://visionaligns.com
X-WR-CALDESC:Events for Vision Aligns
REFRESH-INTERVAL;VALUE=DURATION:PT1H
X-Robots-Tag:noindex
X-PUBLISHED-TTL:PT1H
BEGIN:VTIMEZONE
TZID:Europe/Amsterdam
BEGIN:DAYLIGHT
TZOFFSETFROM:+0100
TZOFFSETTO:+0200
TZNAME:CEST
DTSTART:20240331T010000
END:DAYLIGHT
BEGIN:STANDARD
TZOFFSETFROM:+0200
TZOFFSETTO:+0100
TZNAME:CET
DTSTART:20241027T010000
END:STANDARD
BEGIN:DAYLIGHT
TZOFFSETFROM:+0100
TZOFFSETTO:+0200
TZNAME:CEST
DTSTART:20250330T010000
END:DAYLIGHT
BEGIN:STANDARD
TZOFFSETFROM:+0200
TZOFFSETTO:+0100
TZNAME:CET
DTSTART:20251026T010000
END:STANDARD
BEGIN:DAYLIGHT
TZOFFSETFROM:+0100
TZOFFSETTO:+0200
TZNAME:CEST
DTSTART:20260329T010000
END:DAYLIGHT
BEGIN:STANDARD
TZOFFSETFROM:+0200
TZOFFSETTO:+0100
TZNAME:CET
DTSTART:20261025T010000
END:STANDARD
END:VTIMEZONE
BEGIN:VEVENT
DTSTART;TZID=Europe/Amsterdam:20251027T153000
DTEND;TZID=Europe/Amsterdam:20251027T170000
DTSTAMP:20260421T120211
CREATED:20250905T133647Z
LAST-MODIFIED:20251002T114611Z
UID:61109-1761579000-1761584400@visionaligns.com
SUMMARY:The circle of visionary founders with Rob Schalker
DESCRIPTION:The Circle of Visionary Founders with guest speaker Rob Schalker \nThe circle of visionary founders is a community with founders and leaders from around the world\, representing diverse industries\, religions\, and cultural backgrounds. \nTogether\, we explore our personal and emotional journeys. It is a space that fosters profound personal sharing\, growth\, and healing\, which\, in turn\, translates into collective\, ethical\, and heart-centered leadership. \nVisionary Founders and Leaders are one of the most vital groups that need to support each other\, establishing awareness\, inspiration & healthy patterns\, given their far-reaching impact on their teams and families. \nJoin our next circle\, “Thinking Out of the Bowl\,” with our guest speaker\, Rob Schalker\, on October 27th\, 3.30 PM CET \n“Behind every bold idea is someone who dares to see the world differently. For A Fish Named Fred\, that person is Rob. Where others see obstacles\, he sees possibilities. His mission? To make men everywhere feel fearless\, confident\, and proud of who they are. At this event\, Rob will share his journey\, his sparks\, struggles\, and the breakthroughs—that will leave you inspired to see opportunities in places you never imagined.”
URL:https://visionaligns.com/event/the-circle-of-visionary-founders-rob-schalker/
ATTACH;FMTTYPE=image/jpeg:https://visionaligns.com/wp-content/uploads/2025/01/Generational-Picture.jpg
ORGANIZER;CN="Visionaligns":MAILTO:info@visionaligns.com
END:VEVENT
END:VCALENDAR